Workbook

Sheet Budget mensile
A1: Foglio Excel per le spese mensili
A2: Inserisci gli importi previsti. Le spese effettive vengono sommate dal foglio Movimenti per categoria.
A4: Categoria | B4: Previsto | C4: Effettivo | D4: Differenza
A5: Entrate
A7: Casa | C7: =SUMIF('Movimenti'!$C:$C,"Casa",'Movimenti'!$D:$D) | D7: =B7-C7
A8: Utenze | C8: =SUMIF('Movimenti'!$C:$C,"Utenze",'Movimenti'!$D:$D) | D8: =B8-C8
A9: Alimentari | C9: =SUMIF('Movimenti'!$C:$C,"Alimentari",'Movimenti'!$D:$D) | D9: =B9-C9
A10: Trasporti | C10: =SUMIF('Movimenti'!$C:$C,"Trasporti",'Movimenti'!$D:$D) | D10: =B10-C10
A11: Assicurazioni | C11: =SUMIF('Movimenti'!$C:$C,"Assicurazioni",'Movimenti'!$D:$D) | D11: =B11-C11
A12: Salute | C12: =SUMIF('Movimenti'!$C:$C,"Salute",'Movimenti'!$D:$D) | D12: =B12-C12
A13: Tempo libero | C13: =SUMIF('Movimenti'!$C:$C,"Tempo libero",'Movimenti'!$D:$D) | D13: =B13-C13
A14: Abbonamenti | C14: =SUMIF('Movimenti'!$C:$C,"Abbonamenti",'Movimenti'!$D:$D) | D14: =B14-C14
A15: Risparmio | C15: =SUMIF('Movimenti'!$C:$C,"Risparmio",'Movimenti'!$D:$D) | D15: =B15-C15
A16: Altro | C16: =SUMIF('Movimenti'!$C:$C,"Altro",'Movimenti'!$D:$D) | D16: =B16-C16
A18: Total | B18: =SUM(B7:B16) | C18: =SUM(C7:C16) | D18: =SUM(D7:D16)
A19: Balance | B19: =B5-B18 | C19: =B5-C18 | D19: =B19-C19

Sheet Movimenti
A1: Movimenti
A4: Data | B4: Descrizione | C4: Categoria | D4: Importo

Sheet Metodo e fonti
A1: Metodo e fonti
A2: Il foglio separa il budget previsto dalle spese effettive. Adatta categorie e obiettivi alla tua situazione.
A4: Source | B4: URL
A5: Banca d'Italia — calcolatore del budget | B5: https://economiapertutti.bancaditalia.it/strumenti/calcolatori/calcolatore-del-budget/
